BEGIN:VCALENDAR
VERSION:2.0
PRODID:SchoolNow
CALSCALE:GREGORIAN
BEGIN:VEVENT
UID:552c4ddc-5125-11f0-b177-0affd2357b71
DTSTAMP:20250624T180203Z
SUMMARY:Spring Vacation
URL;VALUE=URI:https://www.norwood.k12.ma.us/cms/calendar/8349123/spring-vac
 ation
DTSTART:20260420T124500Z
DTEND:20260424T192000Z
END:VEVENT
END:VCALENDAR
