BEGIN:VCALENDAR
VERSION:2.0
PRODID:SchoolNow
CALSCALE:GREGORIAN
BEGIN:VEVENT
UID:7de09314-5125-11f0-b0c7-0afff5318a25
DTSTAMP:20250624T180311Z
SUMMARY:Professional Development - Early Release 12:30 PM
URL;VALUE=URI:https://www.norwood.k12.ma.us/cms/calendar/8349124/profession
 al-development-early-release-12-30-pm
DTSTART:20260515T163000Z
DTEND:20260515T192000Z
END:VEVENT
END:VCALENDAR
