BEGIN:VCALENDAR
VERSION:2.0
PRODID:SchoolNow
CALSCALE:GREGORIAN
BEGIN:VEVENT
UID:c709d6cc-5125-11f0-8ec9-0affd2357b71
DTSTAMP:20250624T180514Z
SUMMARY:No School - Memorial Day
URL;VALUE=URI:https://www.norwood.k12.ma.us/cms/calendar/8349125/no-school-
 memorial-day
DTSTART:20260525T124500Z
DTEND:20260525T192000Z
END:VEVENT
END:VCALENDAR
