BEGIN:VCALENDAR
VERSION:2.0
PRODID:SchoolNow
CALSCALE:GREGORIAN
BEGIN:VEVENT
UID:105ac200-5126-11f0-b1da-0a58a9feac02
DTSTAMP:20260224T195013Z
SUMMARY:Last Day of School - Early Release at 12:30 PM (183rd Day)
URL;VALUE=URI:https://www.norwood.k12.ma.us/cms/calendar/8349126/last-day-o
 f-school-early-release-at-12-30-pm-180th-day
DTSTART:20260618T124500Z
DTEND:20260618T163000Z
END:VEVENT
END:VCALENDAR
