BEGIN:VCALENDAR
VERSION:2.0
PRODID:SchoolNow
CALSCALE:GREGORIAN
BEGIN:VEVENT
UID:a93561a6-5126-11f0-a41a-0a58a9feac02
DTSTAMP:20250624T181133Z
SUMMARY:First Day of School
URL;VALUE=URI:https://www.norwood.k12.ma.us/cms/calendar/8349128/first-day-
 of-school
DTSTART:20250902T124500Z
DTEND:20250902T192000Z
END:VEVENT
END:VCALENDAR
