BEGIN:VCALENDAR
VERSION:2.0
PRODID:SchoolNow
CALSCALE:GREGORIAN
BEGIN:VEVENT
UID:eec9e5ca-5126-11f0-9dbf-0a58a9feac02
DTSTAMP:20250624T181330Z
SUMMARY:No School -  Indigenous People's Day
URL;VALUE=URI:https://www.norwood.k12.ma.us/cms/calendar/8349129/no-school-
 indigenous-peoples-day
DTSTART:20251013T124500Z
DTEND:20251013T192000Z
END:VEVENT
END:VCALENDAR
