BEGIN:VCALENDAR
VERSION:2.0
PRODID:SchoolNow
CALSCALE:GREGORIAN
BEGIN:VEVENT
UID:6833397a-6c7a-11f0-b627-0a58a9feac02
DTSTAMP:20250805T162642Z
SUMMARY:Open House Grades 5 and 6
URL;VALUE=URI:https://www.norwood.k12.ma.us/cms/calendar/8454929/open-house
DTSTART:20250917T220000Z
DTEND:20250918T000000Z
END:VEVENT
END:VCALENDAR
