BEGIN:VCALENDAR
VERSION:2.0
PRODID:SchoolNow
CALSCALE:GREGORIAN
BEGIN:VEVENT
UID:d93b3000-6c7a-11f0-8ede-0affea04400d
DTSTAMP:20250731T175523Z
SUMMARY:Open House Grades 7 and 8
URL;VALUE=URI:https://www.norwood.k12.ma.us/cms/calendar/8454930/open-house
DTSTART:20250924T220000Z
DTEND:20250925T000000Z
END:VEVENT
END:VCALENDAR
