BEGIN:VCALENDAR
VERSION:2.0
PRODID:SchoolNow
CALSCALE:GREGORIAN
BEGIN:VEVENT
UID:bbfc1bba-8f1d-11f0-b8bc-0affd69af163
DTSTAMP:20250911T144351Z
SUMMARY:DC Information Meeting at CMS
URL;VALUE=URI:https://www.norwood.k12.ma.us/cms/calendar/8608928/dc-informa
 tion-meeting-at-cms
DTSTART:20251009T223000Z
DTEND:20251009T233000Z
END:VEVENT
END:VCALENDAR
