BEGIN:VCALENDAR
VERSION:2.0
PRODID:SchoolNow
CALSCALE:GREGORIAN
BEGIN:VEVENT
UID:39230ae0-8f1e-11f0-b94d-0a58a9feac02
DTSTAMP:20250911T144721Z
SUMMARY:DC Registration Closes
URL;VALUE=URI:https://www.norwood.k12.ma.us/cms/calendar/8608929/dc-registr
 ation-closes
DTSTART:20251107T134500Z
DTEND:20251107T202000Z
END:VEVENT
END:VCALENDAR
