BEGIN:VCALENDAR
VERSION:2.0
PRODID:SchoolNow
CALSCALE:GREGORIAN
BEGIN:VEVENT
UID:cc882f72-8f1e-11f0-bc00-02f028a35363
DTSTAMP:20250911T145129Z
SUMMARY:DC Parent Meeting
URL;VALUE=URI:https://www.norwood.k12.ma.us/cms/calendar/8608930/dc-parent-
 meeting
DTSTART:20260305T233000Z
DTEND:20260306T003000Z
END:VEVENT
END:VCALENDAR
