BEGIN:VCALENDAR
VERSION:2.0
PRODID:SchoolNow
CALSCALE:GREGORIAN
BEGIN:VEVENT
UID:10edc0be-8fdd-11f0-b198-0e5e325a8125
DTSTAMP:20250912T133328Z
SUMMARY:6th Grade Dance
URL;VALUE=URI:https://www.norwood.k12.ma.us/cms/calendar/8613508/6th-grade-
 dance
DTSTART:20251024T193000Z
DTEND:20251024T210000Z
END:VEVENT
END:VCALENDAR
