BEGIN:VCALENDAR
VERSION:2.0
PRODID:SchoolNow
CALSCALE:GREGORIAN
BEGIN:VEVENT
UID:32d4dbe0-8fdd-11f0-8836-0a58a9feac02
DTSTAMP:20250912T133425Z
SUMMARY:7th Grade Dance
URL;VALUE=URI:https://www.norwood.k12.ma.us/cms/calendar/8613509/7th-grade-
 dance
DTSTART:20260123T110000Z
DTEND:20260124T010000Z
END:VEVENT
END:VCALENDAR
