BEGIN:VCALENDAR
VERSION:2.0
PRODID:SchoolNow
CALSCALE:GREGORIAN
BEGIN:VEVENT
UID:5fea98e0-8fdd-11f0-9acd-0affdf6f3aef
DTSTAMP:20260226T153129Z
SUMMARY:8th Grade Dance
URL;VALUE=URI:https://www.norwood.k12.ma.us/cms/calendar/8613510/8th-grade-
 dance
DTSTART:20260227T230000Z
DTEND:20260228T010000Z
END:VEVENT
END:VCALENDAR
