BEGIN:VCALENDAR
VERSION:2.0
PRODID:SchoolNow
CALSCALE:GREGORIAN
BEGIN:VEVENT
UID:41fd17be-9568-11f0-9645-0a58a9feac02
DTSTAMP:20250919T145226Z
SUMMARY:Picture Day Grades 6 and 8
URL;VALUE=URI:https://www.norwood.k12.ma.us/cms/calendar/8642994/picture-da
 y-grades-6-and-8
DTSTART:20251014T124500Z
DTEND:20251014T183000Z
END:VEVENT
END:VCALENDAR
