BEGIN:VCALENDAR
VERSION:2.0
PRODID:SchoolNow
CALSCALE:GREGORIAN
BEGIN:VEVENT
UID:70eab50e-9568-11f0-9eed-0e5840398e91
DTSTAMP:20250919T145345Z
SUMMARY:Picture Day Grades 5 and 7
URL;VALUE=URI:https://www.norwood.k12.ma.us/cms/calendar/8642995/picture-da
 y-grades-5-and-7
DTSTART:20251015T124500Z
DTEND:20251015T183000Z
END:VEVENT
END:VCALENDAR
