BEGIN:VCALENDAR
VERSION:2.0
PRODID:SchoolNow
CALSCALE:GREGORIAN
BEGIN:VEVENT
UID:8e77220a-b0ee-11f0-a66f-0a58a9feac02
DTSTAMP:20251024T153148Z
SUMMARY:Winter Concert - Chorus - Grades 6-8
LOCATION:Auditorium
URL;VALUE=URI:https://www.norwood.k12.ma.us/cms/calendar/8747457/winter-con
 cert-chorus-grades-6-8
DTSTART:20251217T000000Z
DTEND:20251217T013000Z
END:VEVENT
END:VCALENDAR
