BEGIN:VCALENDAR
VERSION:2.0
PRODID:SchoolNow
CALSCALE:GREGORIAN
BEGIN:VEVENT
UID:c18353d0-b0ee-11f0-bc6d-0a58a9feac02
DTSTAMP:20251024T155321Z
SUMMARY:Winter Concert - Orchestra - Grades 5-8
LOCATION:Auditorium
URL;VALUE=URI:https://www.norwood.k12.ma.us/cms/calendar/8747458/winter-con
 cert-orchestra-grades-5-8
DTSTART:20251218T000000Z
DTEND:20251218T013000Z
END:VEVENT
END:VCALENDAR
