BEGIN:VCALENDAR
VERSION:2.0
PRODID:SchoolNow
CALSCALE:GREGORIAN
BEGIN:VEVENT
UID:9133ce7a-b0ef-11f0-ae8b-0affe6eaa2ad
DTSTAMP:20251024T154548Z
SUMMARY:Spring Concert - Chorus - Grades 6 - 8
LOCATION:Auditorium
URL;VALUE=URI:https://www.norwood.k12.ma.us/cms/calendar/8747459/winter-con
 cert-chorus-grades-6-8
DTSTART:20260519T230000Z
DTEND:20260520T003000Z
END:VEVENT
END:VCALENDAR
