BEGIN:VCALENDAR
VERSION:2.0
PRODID:SchoolNow
CALSCALE:GREGORIAN
BEGIN:VEVENT
UID:bc6f6932-b0ef-11f0-8e32-0afff873aa05
DTSTAMP:20251024T154615Z
SUMMARY:Spring Concert - Orchestra - Grades 5-8
LOCATION:Auditorium
URL;VALUE=URI:https://www.norwood.k12.ma.us/cms/calendar/8747460/winter-con
 cert-orchestra-grades-5-8
DTSTART:20260520T230000Z
DTEND:20260521T003000Z
END:VEVENT
END:VCALENDAR
