BEGIN:VCALENDAR
VERSION:2.0
PRODID:SchoolNow
CALSCALE:GREGORIAN
BEGIN:VEVENT
UID:e8da8d76-b0ef-11f0-96ae-0a58a9feac02
DTSTAMP:20251024T154129Z
SUMMARY:Spring Concert - Band - Grades 5-8
LOCATION:Auditorium
URL;VALUE=URI:https://www.norwood.k12.ma.us/cms/calendar/8747461/spring-con
 cert-band-grades-5-8
DTSTART:20260521T230000Z
DTEND:20260522T003000Z
END:VEVENT
END:VCALENDAR
