BEGIN:VCALENDAR
VERSION:2.0
PRODID:SchoolNow
CALSCALE:GREGORIAN
BEGIN:VEVENT
UID:614016e6-b0f0-11f0-b1aa-0a58a9feac02
DTSTAMP:20251024T154451Z
SUMMARY:Winter Concert - Band - Grades 5-8
LOCATION:Auditorium
URL;VALUE=URI:https://www.norwood.k12.ma.us/cms/calendar/8747462/winter-con
 cert-band-grades-5-8
DTSTART:20251219T000000Z
DTEND:20251219T013000Z
END:VEVENT
END:VCALENDAR
