BEGIN:VCALENDAR
VERSION:2.0
PRODID:SchoolNow
CALSCALE:GREGORIAN
BEGIN:VEVENT
UID:0edaac8a-b0f1-11f0-b63e-0a58a9feac02
DTSTAMP:20251024T154943Z
SUMMARY:Great East Festival/Six Flags Field Trip - 8th Grade Band\, Orchest
 ra and Chorus Only
LOCATION:Auditorium
URL;VALUE=URI:https://www.norwood.k12.ma.us/cms/calendar/8747463/great-east
 -festival-six-flags-field-trip-8th-grade-band-orchestra-and-chorus-only
DTSTART:20260522T120000Z
DTEND:20260522T210000Z
END:VEVENT
END:VCALENDAR
