BEGIN:VCALENDAR
VERSION:2.0
PRODID:SchoolNow
CALSCALE:GREGORIAN
BEGIN:VEVENT
UID:6b095de4-b66e-11f0-a150-02231b95ae21
DTSTAMP:20251031T152940Z
SUMMARY:5th Grade Winter Carnival
URL;VALUE=URI:https://www.norwood.k12.ma.us/cms/calendar/8763823/5th-grade-
 winter-carnival
DTSTART:20251204T203000Z
DTEND:20251204T220000Z
END:VEVENT
END:VCALENDAR
