BEGIN:VCALENDAR
VERSION:2.0
PRODID:SchoolNow
CALSCALE:GREGORIAN
BEGIN:VEVENT
UID:2dd8eefa-cf9e-11f0-ab9b-02ea71babd91
DTSTAMP:20251202T164432Z
SUMMARY:CMS Play - Grades 5 and 6
LOCATION:CMS Auditorium
URL;VALUE=URI:https://www.norwood.k12.ma.us/cms/calendar/8815455/cms-play-g
 rades-5-and-6
DTSTART:20260115T233000Z
DTEND:20260116T013000Z
END:VEVENT
END:VCALENDAR
