BEGIN:VCALENDAR
VERSION:2.0
PRODID:SchoolNow
CALSCALE:GREGORIAN
BEGIN:VEVENT
UID:62882378-cf9e-11f0-ba9a-0affdcfcd8a3
DTSTAMP:20251202T164622Z
SUMMARY:CMS Play - Grades 7 and 8
LOCATION:CMS Auditorium
URL;VALUE=URI:https://www.norwood.k12.ma.us/cms/calendar/8815456/cms-play
DTSTART:20260117T001500Z
DTEND:20260117T021500Z
END:VEVENT
END:VCALENDAR
