BEGIN:VCALENDAR
VERSION:2.0
PRODID:SchoolNow
CALSCALE:GREGORIAN
BEGIN:VEVENT
UID:49e0baae-fbab-11f0-98f0-0e637a4a0ca3
DTSTAMP:20260127T180914Z
SUMMARY:ELA MCAS - All Grades
URL;VALUE=URI:https://www.norwood.k12.ma.us/cms/calendar/8845172/ela-mcas-a
 ll-grades
DTSTART:20260407T124500Z
DTEND:20260407T160000Z
END:VEVENT
END:VCALENDAR
