BEGIN:VCALENDAR
VERSION:2.0
PRODID:SchoolNow
CALSCALE:GREGORIAN
BEGIN:VEVENT
UID:aeddffd4-fbab-11f0-b128-0222e1f31053
DTSTAMP:20260127T181204Z
SUMMARY:ELA MCAS - All Grades
URL;VALUE=URI:https://www.norwood.k12.ma.us/cms/calendar/8845173/ela-mcas-a
 ll-grades
DTSTART:20260408T124500Z
DTEND:20260408T160000Z
END:VEVENT
END:VCALENDAR
