BEGIN:VCALENDAR
VERSION:2.0
PRODID:SchoolNow
CALSCALE:GREGORIAN
BEGIN:VEVENT
UID:e57c6d32-fbab-11f0-a059-0a58a9feac02
DTSTAMP:20260127T181335Z
SUMMARY:Math MCAS - All Grades
URL;VALUE=URI:https://www.norwood.k12.ma.us/cms/calendar/8845174/math-mcas-
 all-grades
DTSTART:20260506T124500Z
DTEND:20260506T160000Z
END:VEVENT
END:VCALENDAR
