BEGIN:VCALENDAR
VERSION:2.0
PRODID:SchoolNow
CALSCALE:GREGORIAN
BEGIN:VEVENT
UID:3fd2aa8a-fbac-11f0-a3e3-0a58a9feac02
DTSTAMP:20260127T181607Z
SUMMARY:SCIENCE - MCAS - GRADES 5 AND 8 ONLY
URL;VALUE=URI:https://www.norwood.k12.ma.us/cms/calendar/8845176/science-mc
 as-grades-5-and-8-only
DTSTART:20260513T124500Z
DTEND:20260513T160000Z
END:VEVENT
END:VCALENDAR
