BEGIN:VCALENDAR
VERSION:2.0
PRODID:SchoolNow
CALSCALE:GREGORIAN
BEGIN:VEVENT
UID:68467b4a-fbac-11f0-89c1-0afff05128fb
DTSTAMP:20260127T182206Z
SUMMARY:CIVICS - MCAS - GRADE 8 ONLY
URL;VALUE=URI:https://www.norwood.k12.ma.us/cms/calendar/8845177/civics-mca
 s-grade-8-only
DTSTART:20260514T114500Z
DTEND:20260514T160000Z
END:VEVENT
END:VCALENDAR
