BEGIN:VCALENDAR
VERSION:2.0
PRODID:SchoolNow
CALSCALE:GREGORIAN
BEGIN:VEVENT
UID:a51c0468-fbac-11f0-9646-0a58a9feac02
DTSTAMP:20260127T182241Z
SUMMARY:CIVICS - MCAS - GRADE 8 ONLY
URL;VALUE=URI:https://www.norwood.k12.ma.us/cms/calendar/8845178/civics-mca
 s-grade-8-only
DTSTART:20260515T114500Z
DTEND:20260515T160000Z
END:VEVENT
END:VCALENDAR
