BEGIN:VCALENDAR
VERSION:2.0
PRODID:SchoolNow
CALSCALE:GREGORIAN
BEGIN:VEVENT
UID:eb8129d8-fbac-11f0-a599-0a58a9feac02
DTSTAMP:20260127T182055Z
SUMMARY:MATH - MCAS - ALL GRADES
URL;VALUE=URI:https://www.norwood.k12.ma.us/cms/calendar/8845179/math-mcas-
 all-grades
DTSTART:20260507T124500Z
DTEND:20260507T160000Z
END:VEVENT
END:VCALENDAR
