BEGIN:VCALENDAR
VERSION:2.0
PRODID:SchoolNow
CALSCALE:GREGORIAN
BEGIN:VEVENT
UID:adcfa90a-fc76-11f0-8900-0afff05128fb
DTSTAMP:20260128T182510Z
SUMMARY:Family PTO Event:  Mini Golf at CMS
LOCATION:Coakley Middle School
URL;VALUE=URI:https://www.norwood.k12.ma.us/cms/calendar/8846055/family-pto
 -event-mini-golf-at-cms
DTSTART:20260310T203000Z
DTEND:20260310T223000Z
END:VEVENT
END:VCALENDAR
