BEGIN:VCALENDAR
VERSION:2.0
PRODID:SchoolNow
CALSCALE:GREGORIAN
BEGIN:VEVENT
UID:91a9e616-11b9-11f1-b721-0a58a9feac02
DTSTAMP:20260224T194653Z
SUMMARY:8th Grade Dance
URL;VALUE=URI:https://www.norwood.k12.ma.us/cms/calendar/8869245/8th-grade-
 dance
DTSTART:20260605T220000Z
DTEND:20260606T003000Z
END:VEVENT
END:VCALENDAR
