BEGIN:VCALENDAR
VERSION:2.0
PRODID:SchoolNow
CALSCALE:GREGORIAN
BEGIN:VEVENT
UID:5f6493b8-1326-11f1-a3cd-0e2a2a433083
DTSTAMP:20260309T101644Z
SUMMARY:Grade 8 Launch Night
URL;VALUE=URI:https://www.norwood.k12.ma.us/cms/calendar/8872899/grade-8-la
 unch-night
DTSTART:20260326T213000Z
DTEND:20260327T000000Z
END:VEVENT
END:VCALENDAR
