BEGIN:VCALENDAR
VERSION:2.0
PRODID:SchoolNow
CALSCALE:GREGORIAN
BEGIN:VEVENT
UID:49715218-1410-11f1-aa80-0a58a9feac02
DTSTAMP:20260227T191240Z
SUMMARY:Grade 8 DC Trip
URL;VALUE=URI:https://www.norwood.k12.ma.us/cms/calendar/8876504/grade-8-dc
 -trip
DTSTART:20260526T093000Z
DTEND:20260530T010000Z
END:VEVENT
END:VCALENDAR
