BEGIN:VCALENDAR
VERSION:2.0
PRODID:SchoolNow
CALSCALE:GREGORIAN
BEGIN:VEVENT
UID:df43c042-1414-11f1-8566-0a58a9feac02
DTSTAMP:20260227T194530Z
SUMMARY:Spring Picture Day - Grades 5 & 7
LOCATION:Black Box Theater
URL;VALUE=URI:https://www.norwood.k12.ma.us/cms/calendar/8876512/spring-pic
 ture-day-grades-5-7
DTSTART:20260310T124500Z
DTEND:20260310T180000Z
END:VEVENT
END:VCALENDAR
