BEGIN:VCALENDAR
VERSION:2.0
PRODID:SchoolNow
CALSCALE:GREGORIAN
BEGIN:VEVENT
UID:fd9fcfea-1414-11f1-97a0-0e8a3ca0f1b9
DTSTAMP:20260227T194621Z
SUMMARY:Spring Picture Day - Grades 6 & 8
LOCATION:Black Box Theater
URL;VALUE=URI:https://www.norwood.k12.ma.us/cms/calendar/8876513/spring-pic
 ture-day-grades-6-8
DTSTART:20260311T124500Z
DTEND:20260311T180000Z
END:VEVENT
END:VCALENDAR
