BEGIN:VCALENDAR
VERSION:2.0
PRODID:SchoolNow
CALSCALE:GREGORIAN
BEGIN:VEVENT
UID:2791ed5c-171b-11f1-8af2-0a58a9feac02
DTSTAMP:20260303T160802Z
SUMMARY:8th Grade Promotion
URL;VALUE=URI:https://www.norwood.k12.ma.us/cms/calendar/8887096/8th-grade-
 promotion
DTSTART:20260612T133000Z
DTEND:20260612T183000Z
END:VEVENT
END:VCALENDAR
