BEGIN:VCALENDAR
VERSION:2.0
PRODID:SchoolNow
CALSCALE:GREGORIAN
BEGIN:VEVENT
UID:b71fd668-172b-11f1-82a3-026d0a3ab0e5
DTSTAMP:20260309T191958Z
SUMMARY:Grade 4 Open House
URL;VALUE=URI:https://www.norwood.k12.ma.us/cms/calendar/8887788/grade-4-op
 en-house
DTSTART:20260430T220000Z
DTEND:20260501T000000Z
END:VEVENT
END:VCALENDAR
