BEGIN:VCALENDAR
VERSION:2.0
PRODID:SchoolNow
CALSCALE:GREGORIAN
BEGIN:VEVENT
UID:f1a3db4e-1ba0-11f1-acfc-0a58a9feac02
DTSTAMP:20260309T101548Z
SUMMARY:Grade 4 Step-Up Day
URL;VALUE=URI:https://www.norwood.k12.ma.us/cms/calendar/8903573/grade-4-st
 ep-up-day
DTSTART:20260528T133000Z
DTEND:20260528T151500Z
END:VEVENT
END:VCALENDAR
