BEGIN:VCALENDAR
VERSION:2.0
PRODID:SchoolNow
CALSCALE:GREGORIAN
BEGIN:VEVENT
UID:9df8314c-1ba1-11f1-8b83-02a5c0111cb7
DTSTAMP:20260309T102037Z
SUMMARY:Grade 8 Fundraiser - Bingo at the Irish Brewing Boston in Norwood
URL;VALUE=URI:https://www.norwood.k12.ma.us/cms/calendar/8903574/grade-8-fu
 ndraiser-bingo-at-the-irish-brewing-boston-in-norwood
DTSTART:20260430T230000Z
DTEND:20260501T010000Z
END:VEVENT
END:VCALENDAR
