BEGIN:VCALENDAR
VERSION:2.0
PRODID:SchoolNow
CALSCALE:GREGORIAN
BEGIN:VEVENT
UID:eb92ae74-2163-11f1-a135-0a58a9feac02
DTSTAMP:20260316T181432Z
SUMMARY:Canobie Lake Park - Grade 8
URL;VALUE=URI:https://www.norwood.k12.ma.us/cms/calendar/8922890/canobie-la
 ke-park-grade-8
DTSTART:20260616T130000Z
DTEND:20260616T210000Z
END:VEVENT
END:VCALENDAR
