BEGIN:VCALENDAR
VERSION:2.0
PRODID:SchoolNow
CALSCALE:GREGORIAN
BEGIN:VEVENT
UID:d4db53a8-22de-11f1-a6ef-02d964229229
DTSTAMP:20260318T152627Z
SUMMARY:Grade 8 Step-Up Day at NHS
LOCATION:CMS to NHS
URL;VALUE=URI:https://www.norwood.k12.ma.us/cms/calendar/8927546/grade-8-st
 ep-up-day-at-nhs
DTSTART:20260609T130000Z
DTEND:20260609T153000Z
END:VEVENT
END:VCALENDAR
