BEGIN:VCALENDAR
VERSION:2.0
PRODID:SchoolNow
CALSCALE:GREGORIAN
BEGIN:VEVENT
UID:96729de6-22df-11f1-b24d-0e55910752fb
DTSTAMP:20260323T155007Z
SUMMARY:Ron Burton Training Village - Grade 8 - Blue Team
LOCATION:71 High Bridge Rd\, Hubbardston\, MA 01452\, USA
URL;VALUE=URI:https://www.norwood.k12.ma.us/cms/calendar/8927548/ron-burton
 -training-village
DTSTART:20260519T120000Z
DTEND:20260519T200000Z
END:VEVENT
END:VCALENDAR
