BEGIN:VCALENDAR
VERSION:2.0
PRODID:SchoolNow
CALSCALE:GREGORIAN
BEGIN:VEVENT
UID:b9077b60-22df-11f1-835c-0a58a9feac02
DTSTAMP:20260323T155031Z
SUMMARY:Ron Burton Training Village - Grade 8 - Green Team
LOCATION:71 High Bridge Rd\, Hubbardston\, MA 01452\, USA
URL;VALUE=URI:https://www.norwood.k12.ma.us/cms/calendar/8927549/ron-burton
 -training-village
DTSTART:20260521T120000Z
DTEND:20260521T200000Z
END:VEVENT
END:VCALENDAR
