BEGIN:VCALENDAR
VERSION:2.0
PRODID:SchoolNow
CALSCALE:GREGORIAN
BEGIN:VEVENT
UID:0aeea8c0-26d4-11f1-aa08-02c71ee0afd3
DTSTAMP:20260323T161918Z
SUMMARY:Commonwealth Museum & Archives - Gr. 8 - Curran/Downs
URL;VALUE=URI:https://www.norwood.k12.ma.us/cms/calendar/8939482/commonweal
 th-museum-archives-gr-8-curran-downs
DTSTART:20260401T125000Z
DTEND:20260401T170000Z
END:VEVENT
END:VCALENDAR
