BEGIN:VCALENDAR
VERSION:2.0
PRODID:SchoolNow
CALSCALE:GREGORIAN
BEGIN:VEVENT
UID:3323c8fc-26d4-11f1-a94d-0a58a9feac02
DTSTAMP:20260323T162025Z
SUMMARY:Commonwealth Museum & Archives - Gr. 5 - Bissanti/Joyce
URL;VALUE=URI:https://www.norwood.k12.ma.us/cms/calendar/8939483/commonweal
 th-museum-archives-gr-5-bissanti-joyce
DTSTART:20260402T125000Z
DTEND:20260402T170000Z
END:VEVENT
END:VCALENDAR
