BEGIN:VCALENDAR
VERSION:2.0
PRODID:SchoolNow
CALSCALE:GREGORIAN
BEGIN:VEVENT
UID:a9718254-2942-11f1-bf0f-0ebf0ec61a4f
DTSTAMP:20260326T183611Z
SUMMARY:Grade 6 Field Day
URL;VALUE=URI:https://www.norwood.k12.ma.us/cms/calendar/8947346/grade-6-fi
 eld-day
DTSTART:20260616T130000Z
DTEND:20260616T180000Z
END:VEVENT
END:VCALENDAR
